BEGIN:VCALENDAR
VERSION:2.0
PRODID:-//Sundgo2//NONSGML kigkonsult.se iCalcreator 2.30.10//
CALSCALE:GREGORIAN
METHOD:PUBLISH
UID:e90f677e-9560-481c-bc66-50074abd9eb2
X-WR-CALNAME:iCagenda
X-WR-CALDESC:Event Management Extension for Joomla!
X-WR-RELCALID:3E26604A-50F4-4449-8B3E-E4F4932D05B5
X-WR-TIMEZONE:Europe/Paris
BEGIN:VTIMEZONE
TZID:Europe/Paris
BEGIN:STANDARD
TZNAME:CET
DTSTART:20251026T030000
TZOFFSETFROM:+0200
TZOFFSETTO:+0100
RDATE:20261025T030000
END:STANDARD
BEGIN:DAYLIGHT
TZNAME:CEST
DTSTART:20250330T020000
TZOFFSETFROM:+0100
TZOFFSETTO:+0200
RDATE:20260329T020000
RDATE:20270328T020000
END:DAYLIGHT
END:VTIMEZONE
BEGIN:VEVENT
UID:743570a6-29b3-4171-9b3e-93f3d58da09a
DTSTAMP:20260422T075057Z
CATEGORIES:Running / Trail
CLASS:PUBLIC
DESCRIPTION:
DTSTART:20260228T080000Z
DTEND:20260228T080000Z
GEO:00;0
LOCATION:Parking foyer
ORGANIZER:
SEQUENCE:1
SUMMARY:Running Nature - BALSCHWILLER
TRANSP:OPAQUE
URL:https://www.sundgo2.fr/index.php/planning/evenements/394-running-nature
 -8h30-10h-a-definir-2/2026-02-28-09-00
END:VEVENT
END:VCALENDAR
