BEGIN:VCALENDAR
VERSION:2.0
PRODID:-//Sundgo2//NONSGML kigkonsult.se iCalcreator 2.30.10//
CALSCALE:GREGORIAN
METHOD:PUBLISH
UID:3f77453c-e0e6-4cd9-b77b-b16cb673fb84
X-WR-CALNAME:iCagenda
X-WR-CALDESC:Event Management Extension for Joomla!
X-WR-RELCALID:3E26604A-50F4-4449-8B3E-E4F4932D05B5
X-WR-TIMEZONE:Europe/Paris
BEGIN:VTIMEZONE
TZID:Europe/Paris
BEGIN:STANDARD
TZNAME:CET
DTSTART:20231029T030000
TZOFFSETFROM:+0200
TZOFFSETTO:+0100
RDATE:20241027T030000
RDATE:20251026T030000
END:STANDARD
BEGIN:DAYLIGHT
TZNAME:CEST
DTSTART:20240331T020000
TZOFFSETFROM:+0100
TZOFFSETTO:+0200
RDATE:20250330T020000
END:DAYLIGHT
END:VTIMEZONE
BEGIN:VEVENT
UID:64a08a90-428f-4e0b-a3dd-255e70419a63
DTSTAMP:20260419T202320Z
CATEGORIES:MN/CAP Compétition
CLASS:PUBLIC
DESCRIPTION:
DTSTART:20240714T063000Z
DTEND:20240714T063000Z
GEO:+47.774559;+6.996478
LOCATION:Salle polyvalente
ORGANIZER:
SEQUENCE:1
SUMMARY:Trail de Masevaux départ 9h00 ou Sortie Trail SO² départ 8h30 à déf
 inir !
TRANSP:OPAQUE
URL:https://www.sundgo2.fr/index.php/planning/evenements/371-sortie-trail-s
 o-ou-velo-a-definir/2024-07-14-08-30
END:VEVENT
END:VCALENDAR
