BEGIN:VCALENDAR
VERSION:2.0
PRODID:-//Sundgo2//NONSGML kigkonsult.se iCalcreator 2.30.10//
CALSCALE:GREGORIAN
METHOD:PUBLISH
UID:68ba5f20-cf3f-4cda-9c2d-ff0ad352d316
X-WR-CALNAME:iCagenda
X-WR-CALDESC:Event Management Extension for Joomla!
X-WR-RELCALID:3E26604A-50F4-4449-8B3E-E4F4932D05B5
X-WR-TIMEZONE:Europe/Paris
BEGIN:VTIMEZONE
TZID:Europe/Paris
BEGIN:STANDARD
TZNAME:CET
DTSTART:20231029T030000
TZOFFSETFROM:+0200
TZOFFSETTO:+0100
RDATE:20241027T030000
RDATE:20251026T030000
END:STANDARD
BEGIN:DAYLIGHT
TZNAME:CEST
DTSTART:20240331T020000
TZOFFSETFROM:+0100
TZOFFSETTO:+0200
RDATE:20250330T020000
END:DAYLIGHT
END:VTIMEZONE
BEGIN:VEVENT
UID:f914208c-b213-4780-8bba-57f8d6404554
DTSTAMP:20260424T115156Z
CATEGORIES:Evènement Club
CLASS:PUBLIC
DESCRIPTION:
DTSTART:20240924T163000Z
DTEND:20240924T163000Z
GEO:00;0
LOCATION:
ORGANIZER:
SEQUENCE:1
SUMMARY:COURIR dans le Sundgau
TRANSP:OPAQUE
URL:https://www.sundgo2.fr/index.php/planning/evenements/367-running-trail-
 gildwiller/2024-09-24-18-30
END:VEVENT
END:VCALENDAR
