BEGIN:VCALENDAR
VERSION:2.0
PRODID:-//Sundgo2//NONSGML kigkonsult.se iCalcreator 2.30.10//
CALSCALE:GREGORIAN
METHOD:PUBLISH
UID:8c7ecd43-6381-4a53-b2fa-b24149ae7dfd
X-WR-CALNAME:iCagenda
X-WR-CALDESC:Event Management Extension for Joomla!
X-WR-RELCALID:3E26604A-50F4-4449-8B3E-E4F4932D05B5
X-WR-TIMEZONE:Europe/Paris
BEGIN:VTIMEZONE
TZID:Europe/Paris
BEGIN:STANDARD
TZNAME:CET
DTSTART:20161030T030000
TZOFFSETFROM:+0200
TZOFFSETTO:+0100
RDATE:20171029T030000
RDATE:20181028T030000
END:STANDARD
BEGIN:DAYLIGHT
TZNAME:CEST
DTSTART:20170326T020000
TZOFFSETFROM:+0100
TZOFFSETTO:+0200
RDATE:20180325T020000
END:DAYLIGHT
END:VTIMEZONE
BEGIN:VEVENT
UID:6d74343d-e1fd-4b8c-af73-e6e62c6b89d7
DTSTAMP:20260423T205202Z
CATEGORIES:Evènement Club
CLASS:PUBLIC
DESCRIPTION;ALTREP="CID:<FFFF__=0ABBE548DFE235B58f9e8a93d@coffeebean.com>":
 Coucou les loulous\n \nIL Y A UNE FIN et un DÉBUT à tous\,  LA RENTRÉE SPO
 RTIVE EST LA !\nLIEU / Salle Polyvalente\nde 13H30 à 14H30 baby athle 3-4a
 ns  et 5-6 ans\nde 14H30 à 16H00 Ecole Athlé à partir de 7 ans\n \nA bient
 ôt les loulous\n \nPensez à emportez et et tenue sportive adapté
DTSTART:20170913T113000Z
DTEND:20170913T113000Z
GEO:00;0
LOCATION:
ORGANIZER:
SEQUENCE:1
SUMMARY:RENTRÉE SPORTIVE ENFANTS
TRANSP:OPAQUE
URL:https://www.sundgo2.fr/index.php/component/icagenda/78-rentree-sportive
 -adultes-2/2017-09-13-13-30
END:VEVENT
END:VCALENDAR
