BEGIN:VCALENDAR
VERSION:2.0
PRODID:-//Sundgo2//NONSGML kigkonsult.se iCalcreator 2.30.10//
CALSCALE:GREGORIAN
METHOD:PUBLISH
UID:f2385bbb-3f31-41b1-bc52-4dfd34826130
X-WR-CALNAME:iCagenda
X-WR-CALDESC:Event Management Extension for Joomla!
X-WR-RELCALID:3E26604A-50F4-4449-8B3E-E4F4932D05B5
X-WR-TIMEZONE:Europe/Paris
BEGIN:VTIMEZONE
TZID:Europe/Paris
BEGIN:STANDARD
TZNAME:CET
DTSTART:20161030T030000
TZOFFSETFROM:+0200
TZOFFSETTO:+0100
RDATE:20171029T030000
RDATE:20181028T030000
END:STANDARD
BEGIN:DAYLIGHT
TZNAME:CEST
DTSTART:20170326T020000
TZOFFSETFROM:+0100
TZOFFSETTO:+0200
RDATE:20180325T020000
END:DAYLIGHT
END:VTIMEZONE
BEGIN:VEVENT
UID:25aa2aef-18e9-4a3c-9024-92065e5f4ffd
DTSTAMP:20260419T122508Z
CATEGORIES:Evènement Club
CLASS:PUBLIC
DESCRIPTION;ALTREP="CID:<FFFF__=0ABBE548DFE235B58f9e8a93d@coffeebean.com>":
 Coucou les loulous\n \nIL Y A UNE FIN et un DÉBUT à tous\nPOUR NOUS CEST L
 A RENTRÉE . YOUPPI\n \nINSCRIPTIONS\nConcerne tout le monde . Section Athl
 é de tous les âges ainsi que SKI\nRDV au stade de Dannemarie DE 10H30 à 12
 H\n \nAU PROGRAMME \n10H30 à 12H Inscriptions et pause café à la salle pol
 yvalente Concerne les inscriptions Athlé de tous les âges ainsi que SKI\nà
  PARTIR de 12H : Repas aux 100 pâtes pour ceux qui le souhaitent.Inscripti
 ons chez Nath
DTSTART:20170902T083000Z
DTEND:20170902T083000Z
GEO:00;0
LOCATION:
ORGANIZER:
SEQUENCE:1
SUMMARY:INSCRIPTIONS
TRANSP:OPAQUE
URL:https://www.sundgo2.fr/index.php/component/icagenda/77-rentree-sportive
 -adultes/2017-09-02-10-30
END:VEVENT
END:VCALENDAR
