BEGIN:VCALENDAR
VERSION:2.0
PRODID:-//Sundgo2//NONSGML kigkonsult.se iCalcreator 2.30.10//
CALSCALE:GREGORIAN
METHOD:PUBLISH
UID:bcadc044-324a-465f-b745-3aa6d4ead7a6
X-WR-CALNAME:iCagenda
X-WR-CALDESC:Event Management Extension for Joomla!
X-WR-RELCALID:3E26604A-50F4-4449-8B3E-E4F4932D05B5
X-WR-TIMEZONE:Europe/Paris
BEGIN:VTIMEZONE
TZID:Europe/Paris
BEGIN:STANDARD
TZNAME:CET
DTSTART:20181028T030000
TZOFFSETFROM:+0200
TZOFFSETTO:+0100
RDATE:20191027T030000
RDATE:20201025T030000
END:STANDARD
BEGIN:DAYLIGHT
TZNAME:CEST
DTSTART:20190331T020000
TZOFFSETFROM:+0100
TZOFFSETTO:+0200
RDATE:20200329T020000
END:DAYLIGHT
END:VTIMEZONE
BEGIN:VEVENT
UID:98881560-9ee3-40f6-8d76-65b4605bd950
DTSTAMP:20260419T231556Z
CATEGORIES:Evènement Club
CLASS:PUBLIC
DESCRIPTION;ALTREP="CID:<FFFF__=0ABBE548DFE235B58f9e8a93d@coffeebean.com>":
 Hello à  tous\nUn moment pour se retrouver et partager un bon moment ensem
 ble.\nRDV VENDREDI 05 JUILLET AU STADE de DANNEMARIE vers TERRAIN BASKET 
 \nParking du stade\nAU PROGRAMME :\n18H30 :  JEUX+DEFIS\n20H : BARBECUE PI
 QUE NIQUE \n \n INFORMATIONS :\nFaisons simple\, pas de table\, le repas s
 ur prendra sur de grande couverture apportée par chacun. Repas tiré du sac
  et possibilité de faire cuire ses grillades - Barbecue à votre dispositio
 n\n \nPas d'inscription . Tous les participants se doivent d'apporter :\n
 \nUne couverture par famille (2-3 personnes)\nune salade ou tarte\nses pro
 pres grillades (saucisses uniquement ) pas de poulet trop long à cuire\nou
  autres repas tiré du sac\nune boisson \nvos couverts (fourchettes)\nET SU
 RTOUT PENSEZ à mettre vos maillots pour photos de groupe \n\n \nLe club fo
 urnira les assiettes\, serviettes\, gobelets\, moutarde\, ketchup\, le feu
  (lol)\, l'eau et la bière\n \n \nBiz à tous\nA bientôt\nSundgO² Team\n \n
  \n \n 
DTSTART:20190705T163000Z
DTEND:20190705T163000Z
GEO:00;0
LOCATION:
ORGANIZER:
SEQUENCE:1
SUMMARY:SOIREÉ BARBECUE PIQUE NIQUE
TRANSP:OPAQUE
URL:https://www.sundgo2.fr/index.php/component/icagenda/74-soiree-barbecue-
 pique-nique/2019-07-05-18-30
END:VEVENT
END:VCALENDAR
