BEGIN:VCALENDAR
VERSION:2.0
PRODID:-//Sundgo2//NONSGML kigkonsult.se iCalcreator 2.30.10//
CALSCALE:GREGORIAN
METHOD:PUBLISH
UID:5c251286-04c7-4c05-9fba-943b9612a1d9
X-WR-CALNAME:iCagenda
X-WR-CALDESC:Event Management Extension for Joomla!
X-WR-RELCALID:3E26604A-50F4-4449-8B3E-E4F4932D05B5
X-WR-TIMEZONE:Europe/Paris
BEGIN:VTIMEZONE
TZID:Europe/Paris
BEGIN:STANDARD
TZNAME:CET
DTSTART:20231029T030000
TZOFFSETFROM:+0200
TZOFFSETTO:+0100
RDATE:20241027T030000
RDATE:20251026T030000
END:STANDARD
BEGIN:DAYLIGHT
TZNAME:CEST
DTSTART:20240331T020000
TZOFFSETFROM:+0100
TZOFFSETTO:+0200
RDATE:20250330T020000
END:DAYLIGHT
END:VTIMEZONE
BEGIN:VEVENT
UID:cf82f72e-8d62-48aa-b21f-a50ecabc6ec4
DTSTAMP:20260426T023326Z
CATEGORIES:Evènement Club
CLASS:PUBLIC
DESCRIPTION:
DTSTART:20240614T130000Z
DTEND:20240614T130000Z
GEO:+47.669968;+7.170258
LOCATION:Parking du Foyer
ORGANIZER:
SEQUENCE:1
SUMMARY:MARCHE NORDIQUE Ouvert aux habitants
TRANSP:OPAQUE
URL:https://www.sundgo2.fr/index.php/component/icagenda/349-marche-nordique
 -a-la-carte-3/2024-06-14-15-00
END:VEVENT
END:VCALENDAR
