BEGIN:VCALENDAR
VERSION:2.0
PRODID:-//Sundgo2//NONSGML kigkonsult.se iCalcreator 2.30.10//
CALSCALE:GREGORIAN
METHOD:PUBLISH
UID:66b92f37-1d85-4a27-89e4-aa6c9d18c112
X-WR-CALNAME:iCagenda
X-WR-CALDESC:Event Management Extension for Joomla!
X-WR-RELCALID:3E26604A-50F4-4449-8B3E-E4F4932D05B5
X-WR-TIMEZONE:Europe/Paris
BEGIN:VTIMEZONE
TZID:Europe/Paris
BEGIN:STANDARD
TZNAME:CET
DTSTART:20231029T030000
TZOFFSETFROM:+0200
TZOFFSETTO:+0100
RDATE:20241027T030000
RDATE:20251026T030000
END:STANDARD
BEGIN:DAYLIGHT
TZNAME:CEST
DTSTART:20240331T020000
TZOFFSETFROM:+0100
TZOFFSETTO:+0200
RDATE:20250330T020000
END:DAYLIGHT
END:VTIMEZONE
BEGIN:VEVENT
UID:60eed503-0728-4438-8228-d589b85cf27d
DTSTAMP:20260420T002557Z
CATEGORIES:Marche Nordique
CLASS:PUBLIC
DESCRIPTION:
DTSTART:20240719T130000Z
DTEND:20240719T130000Z
GEO:00;0
LOCATION:RDV parking du foyer
ORGANIZER:
SEQUENCE:1
SUMMARY:MARCHE NORDIQUE À LA CARTE - HAGENBACH
TRANSP:OPAQUE
URL:https://www.sundgo2.fr/index.php/component/icagenda/348-marche-nordique
 -a-la-carte-bernwiller/2024-07-19-15-00
END:VEVENT
END:VCALENDAR
