BEGIN:VCALENDAR
VERSION:2.0
PRODID:-//Sundgo2//NONSGML kigkonsult.se iCalcreator 2.30.10//
CALSCALE:GREGORIAN
METHOD:PUBLISH
UID:7eacb75a-6562-45c0-925a-82356b0f2096
X-WR-CALNAME:iCagenda
X-WR-CALDESC:Event Management Extension for Joomla!
X-WR-RELCALID:3E26604A-50F4-4449-8B3E-E4F4932D05B5
X-WR-TIMEZONE:Europe/Paris
BEGIN:VTIMEZONE
TZID:Europe/Paris
BEGIN:STANDARD
TZNAME:CET
DTSTART:20231029T030000
TZOFFSETFROM:+0200
TZOFFSETTO:+0100
RDATE:20241027T030000
RDATE:20251026T030000
END:STANDARD
BEGIN:DAYLIGHT
TZNAME:CEST
DTSTART:20240331T020000
TZOFFSETFROM:+0100
TZOFFSETTO:+0200
RDATE:20250330T020000
END:DAYLIGHT
END:VTIMEZONE
BEGIN:VEVENT
UID:f8480ab6-f5f2-4353-a7e3-d2a06eeb9432
DTSTAMP:20260422T002150Z
CATEGORIES:Running / Trail
CLASS:PUBLIC
DESCRIPTION:
DTSTART:20240723T163000Z
DTEND:20240723T163000Z
GEO:+47.655766;+7.269357
LOCATION:Rdv parking école
ORGANIZER:
SEQUENCE:1
SUMMARY:RUNNING TRAIL TAGOLSHEIM
TRANSP:OPAQUE
URL:https://www.sundgo2.fr/index.php/component/icagenda/345-running-piste-t
 rail-3/2024-07-23-18-30
END:VEVENT
END:VCALENDAR
