BEGIN:VCALENDAR
VERSION:2.0
PRODID:-//Sundgo2//NONSGML kigkonsult.se iCalcreator 2.30.10//
CALSCALE:GREGORIAN
METHOD:PUBLISH
UID:6428ecc2-67f9-45b5-b42e-8de191d4977f
X-WR-CALNAME:iCagenda
X-WR-CALDESC:Event Management Extension for Joomla!
X-WR-RELCALID:3E26604A-50F4-4449-8B3E-E4F4932D05B5
X-WR-TIMEZONE:Europe/Paris
BEGIN:VTIMEZONE
TZID:Europe/Paris
BEGIN:STANDARD
TZNAME:CET
DTSTART:20231029T030000
TZOFFSETFROM:+0200
TZOFFSETTO:+0100
RDATE:20241027T030000
END:STANDARD
BEGIN:DAYLIGHT
TZNAME:CEST
DTSTART:20230326T020000
TZOFFSETFROM:+0100
TZOFFSETTO:+0200
RDATE:20240331T020000
RDATE:20250330T020000
END:DAYLIGHT
END:VTIMEZONE
BEGIN:VEVENT
UID:751dc304-0adc-4bce-a963-9e20ac97c3f2
DTSTAMP:20260422T012524Z
CATEGORIES:MN/CAP Compétition
CLASS:PUBLIC
DESCRIPTION:
DTSTART:20231203T090000Z
DTEND:20231203T090000Z
GEO:+47.928013;+7.18683
LOCATION:https://www.mjc-buhl.com/files/downloads/renseignements-trail-2023
 .pdf
ORGANIZER:
SEQUENCE:1
SUMMARY:TÉLÉTHON TRAIL DE BUHL - 11km D+ 348m - 20km D+ 792m
TRANSP:OPAQUE
URL:https://www.sundgo2.fr/index.php/component/icagenda/342-trail-de-buhl-1
 1km-d-348m-20km-d-792m/2023-12-03-10-00
END:VEVENT
END:VCALENDAR
