BEGIN:VCALENDAR
VERSION:2.0
PRODID:-//Sundgo2//NONSGML kigkonsult.se iCalcreator 2.30.10//
CALSCALE:GREGORIAN
METHOD:PUBLISH
UID:971a7a98-3302-4af3-9914-7f7f9f648da0
X-WR-CALNAME:iCagenda
X-WR-CALDESC:Event Management Extension for Joomla!
X-WR-RELCALID:3E26604A-50F4-4449-8B3E-E4F4932D05B5
X-WR-TIMEZONE:Europe/Paris
BEGIN:VTIMEZONE
TZID:Europe/Paris
BEGIN:STANDARD
TZNAME:CET
DTSTART:20211031T030000
TZOFFSETFROM:+0200
TZOFFSETTO:+0100
RDATE:20221030T030000
RDATE:20231029T030000
END:STANDARD
BEGIN:DAYLIGHT
TZNAME:CEST
DTSTART:20220327T020000
TZOFFSETFROM:+0100
TZOFFSETTO:+0200
RDATE:20230326T020000
END:DAYLIGHT
END:VTIMEZONE
BEGIN:VEVENT
UID:6586ec8d-09a2-4535-83fe-cdcc5a49cfa5
DTSTAMP:20260419T122809Z
CATEGORIES:Evènement Club
CLASS:PUBLIC
DESCRIPTION;ALTREP="CID:<FFFF__=0ABBE548DFE235B58f9e8a93d@coffeebean.com>":
     \nMarche nordique nocturne \nInfos: contact@sundgo2.fr\nInscriptions: 
 Calendrier du site
DTSTART:20220614T184500Z
DTEND:20220614T211500Z
GEO:+47.660133;+7.24067
LOCATION:RDV Parking Élise
ORGANIZER:
SEQUENCE:1
SUMMARY:MARCHE NORDIQUE NOCTURNE AU CLAIR DE LUNE
TRANSP:OPAQUE
URL:https://www.sundgo2.fr/index.php/component/icagenda/323-marche-nordique
 -au-clair-de-lune/2022-06-14-20-45
END:VEVENT
END:VCALENDAR
