BEGIN:VCALENDAR
VERSION:2.0
PRODID:-//Sundgo2//NONSGML kigkonsult.se iCalcreator 2.30.10//
CALSCALE:GREGORIAN
METHOD:PUBLISH
UID:4f6d539a-c511-4f69-96aa-5760aade602f
X-WR-CALNAME:iCagenda
X-WR-CALDESC:Event Management Extension for Joomla!
X-WR-RELCALID:3E26604A-50F4-4449-8B3E-E4F4932D05B5
X-WR-TIMEZONE:Europe/Paris
BEGIN:VTIMEZONE
TZID:Europe/Paris
BEGIN:STANDARD
TZNAME:CET
DTSTART:20201025T030000
TZOFFSETFROM:+0200
TZOFFSETTO:+0100
RDATE:20211031T030000
END:STANDARD
BEGIN:DAYLIGHT
TZNAME:CEST
DTSTART:20200329T020000
TZOFFSETFROM:+0100
TZOFFSETTO:+0200
RDATE:20210328T020000
RDATE:20220327T020000
END:DAYLIGHT
END:VTIMEZONE
BEGIN:VEVENT
UID:ea6c0a76-9035-417e-a425-c65b19c67307
DTSTAMP:20260423T153709Z
CATEGORIES:Evènement Club
CLASS:PUBLIC
DESCRIPTION:
DTSTART:20201101T070000Z
DTEND:20201101T070000Z
GEO:00;0
LOCATION:
ORGANIZER:
SEQUENCE:1
SUMMARY:Rassemblement rando trail & trail SO²
TRANSP:OPAQUE
URL:https://www.sundgo2.fr/index.php/component/icagenda/219-sortie-trail-4/
 2020-11-01-08-00?Itemid=435
END:VEVENT
END:VCALENDAR
