BEGIN:VCALENDAR
VERSION:2.0
PRODID:-//Sundgo2//NONSGML kigkonsult.se iCalcreator 2.30.10//
CALSCALE:GREGORIAN
METHOD:PUBLISH
UID:ca67728b-eaf1-4aa2-9721-a2752629a01b
X-WR-CALNAME:iCagenda
X-WR-CALDESC:Event Management Extension for Joomla!
X-WR-RELCALID:3E26604A-50F4-4449-8B3E-E4F4932D05B5
X-WR-TIMEZONE:Europe/Paris
BEGIN:VTIMEZONE
TZID:Europe/Paris
BEGIN:STANDARD
TZNAME:CET
DTSTART:20181028T030000
TZOFFSETFROM:+0200
TZOFFSETTO:+0100
RDATE:20191027T030000
RDATE:20201025T030000
END:STANDARD
BEGIN:DAYLIGHT
TZNAME:CEST
DTSTART:20190331T020000
TZOFFSETFROM:+0100
TZOFFSETTO:+0200
RDATE:20200329T020000
END:DAYLIGHT
END:VTIMEZONE
BEGIN:VEVENT
UID:ee7b76a4-6956-4039-806c-1ddd572e68a5
DTSTAMP:20260419T223259Z
CATEGORIES:Marche Nordique
CLASS:PUBLIC
DESCRIPTION;ALTREP="CID:<FFFF__=0ABBE548DFE235B58f9e8a93d@coffeebean.com>":
 MARCHE NORDIQUE COMPETITION\n \nAttention ce créneau s'adresse à la team M
 N COMPET.\nNéanmoins les membres disposant d'une bonne condition et intere
 sssé par un entrainement très dynamique pourront se joindre à la team sous
  réserve de l'accord du responsable.\n \nCes séances se feront sur piste o
 u en nature.\n* BâtonsPas de Prêt de bâtons .\n \nMERCREDI  11 SEPTEMBRE :
 Entrainement au Waldeck départ 17H30 à l'entrée du ZOO
DTSTART:20190911T153000Z
DTEND:20190911T153000Z
GEO:00;0
LOCATION:
ORGANIZER;CN=:contact@sundgo2.fr
SEQUENCE:1
SUMMARY:Marche Nordique COMPET
TRANSP:OPAQUE
URL:https://www.sundgo2.fr/index.php/component/icagenda/18-marche-nordique-
 famille/2019-09-11-17-30
END:VEVENT
END:VCALENDAR
