BEGIN:VCALENDAR
VERSION:2.0
PRODID:-//Sundgo2//NONSGML kigkonsult.se iCalcreator 2.30.10//
CALSCALE:GREGORIAN
METHOD:PUBLISH
UID:af341825-2389-4e29-9180-71894a97c0df
X-WR-CALNAME:iCagenda
X-WR-CALDESC:Event Management Extension for Joomla!
X-WR-RELCALID:3E26604A-50F4-4449-8B3E-E4F4932D05B5
X-WR-TIMEZONE:Europe/Paris
BEGIN:VTIMEZONE
TZID:Europe/Paris
BEGIN:STANDARD
TZNAME:CET
DTSTART:20171029T030000
TZOFFSETFROM:+0200
TZOFFSETTO:+0100
RDATE:20181028T030000
RDATE:20191027T030000
END:STANDARD
BEGIN:DAYLIGHT
TZNAME:CEST
DTSTART:20180325T020000
TZOFFSETFROM:+0100
TZOFFSETTO:+0200
RDATE:20190331T020000
END:DAYLIGHT
END:VTIMEZONE
BEGIN:VEVENT
UID:635c0837-a820-4139-8823-a38750281aa0
DTSTAMP:20260421T203742Z
CATEGORIES:Running / Trail
CLASS:PUBLIC
DESCRIPTION;ALTREP="CID:<FFFF__=0ABBE548DFE235B58f9e8a93d@coffeebean.com>":
 \n\nL’Altkirch Trail Urbain est une course pédestre organisée en plein cœu
 r de la ville d’Altkirch à travers ses lieux emblématiques.\n« Altkirch co
 mme vous ne l’avez jamais vue ! ».\nPassage par la Vieille Porte\, les rem
 parts\, le Musée Sundgauvien\, la fontaine de la vierge\, la très belle vu
 e depuis la colline du Roggenberg\, la Halle au blé\, l’église Notre-Dame 
 de l’Assomption\, le CRAC (centre rhénan d’art contemporain).\nDeux course
 s sont au programme à partir :\n– L’Altkirch Trail Urbain à 9h30 sur une d
 istance de 14\,2km.– L’Altkirchoise à 9h50 sur une distance de 4\,7km.\n\n
DTSTART:20180909T073000Z
DTEND:20180909T073000Z
GEO:00;0
LOCATION:
ORGANIZER:
SEQUENCE:1
SUMMARY:TRAIL URBAIN ALTKIRCH 2018
TRANSP:OPAQUE
URL:https://www.sundgo2.fr/index.php/component/icagenda/131-trail-urbain-al
 tkirch-2/2018-09-09-09-30
END:VEVENT
END:VCALENDAR
